BEGIN:VCALENDAR
VERSION:2.0
PRODID:-//Almanar School - ECPv6.0.8//NONSGML v1.0//EN
CALSCALE:GREGORIAN
METHOD:PUBLISH
X-ORIGINAL-URL:https://almanarqatar.com/website/dafna/en/
X-WR-CALDESC:Events for Almanar School
REFRESH-INTERVAL;VALUE=DURATION:PT1H
X-Robots-Tag:noindex
X-PUBLISHED-TTL:PT1H
BEGIN:VTIMEZONE
TZID:Europe/Moscow
BEGIN:STANDARD
TZOFFSETFROM:+0300
TZOFFSETTO:+0300
TZNAME:MSK
DTSTART:20240101T000000
END:STANDARD
END:VTIMEZONE
BEGIN:VEVENT
DTSTART;VALUE=DATE:20240111
DTEND;VALUE=DATE:20240112
DTSTAMP:20260425T230359
CREATED:20240123T080051Z
LAST-MODIFIED:20240123T080215Z
UID:15270-1704931200-1705017599@almanarqatar.com
SUMMARY:100 Days of School
DESCRIPTION:
URL:https://almanarqatar.com/website/dafna/en/event/100-days-of-school/
LOCATION:Qatar Police Appreciation Day
END:VEVENT
BEGIN:VEVENT
DTSTART;VALUE=DATE:20240123
DTEND;VALUE=DATE:20240124
DTSTAMP:20260425T230359
CREATED:20240123T074257Z
LAST-MODIFIED:20240123T074257Z
UID:15258-1705968000-1706054399@almanarqatar.com
SUMMARY:Pajama Day
DESCRIPTION:
URL:https://almanarqatar.com/website/dafna/en/event/pajama-day/
LOCATION:Qatar Police Appreciation Day
END:VEVENT
BEGIN:VEVENT
DTSTART;VALUE=DATE:20240125
DTEND;VALUE=DATE:20240126
DTSTAMP:20260425T230359
CREATED:20240123T074335Z
LAST-MODIFIED:20240123T074335Z
UID:15260-1706140800-1706227199@almanarqatar.com
SUMMARY:Character Day
DESCRIPTION:
URL:https://almanarqatar.com/website/dafna/en/event/character-day/
LOCATION:Qatar Police Appreciation Day
END:VEVENT
BEGIN:VEVENT
DTSTART;VALUE=DATE:20240131
DTEND;VALUE=DATE:20240201
DTSTAMP:20260425T230359
CREATED:20240123T074747Z
LAST-MODIFIED:20240123T074941Z
UID:15262-1706659200-1706745599@almanarqatar.com
SUMMARY:Art Fair
DESCRIPTION:
URL:https://almanarqatar.com/website/dafna/en/event/art-fair/
LOCATION:Qatar Police Appreciation Day
END:VEVENT
END:VCALENDAR