BEGIN:VCALENDAR
VERSION:2.0
PRODID:-//Almanar School - ECPv6.0.8//NONSGML v1.0//EN
CALSCALE:GREGORIAN
METHOD:PUBLISH
X-WR-CALNAME:Almanar School
X-ORIGINAL-URL:https://almanarqatar.com/website/dafna/en/
X-WR-CALDESC:Events for Almanar School
REFRESH-INTERVAL;VALUE=DURATION:PT1H
X-Robots-Tag:noindex
X-PUBLISHED-TTL:PT1H
BEGIN:VTIMEZONE
TZID:Europe/Moscow
BEGIN:STANDARD
TZOFFSETFROM:+0300
TZOFFSETTO:+0300
TZNAME:MSK
DTSTART:20240101T000000
END:STANDARD
END:VTIMEZONE
BEGIN:VEVENT
DTSTART;VALUE=DATE:20240422
DTEND;VALUE=DATE:20240423
DTSTAMP:20260425T134611
CREATED:20240123T081338Z
LAST-MODIFIED:20240123T081338Z
UID:15280-1713744000-1713830399@almanarqatar.com
SUMMARY:Earth Day
DESCRIPTION:
URL:https://almanarqatar.com/website/dafna/en/event/earth-day/
LOCATION:Qatar Police Appreciation Day
END:VEVENT
BEGIN:VEVENT
DTSTART;VALUE=DATE:20240423
DTEND;VALUE=DATE:20240424
DTSTAMP:20260425T134611
CREATED:20240123T081601Z
LAST-MODIFIED:20240123T081601Z
UID:15282-1713830400-1713916799@almanarqatar.com
SUMMARY:JAC
DESCRIPTION:
URL:https://almanarqatar.com/website/dafna/en/event/jac/
LOCATION:Qatar Police Appreciation Day
END:VEVENT
BEGIN:VEVENT
DTSTART;VALUE=DATE:20240425
DTEND;VALUE=DATE:20240426
DTSTAMP:20260425T134611
CREATED:20240123T081701Z
LAST-MODIFIED:20240123T081701Z
UID:15284-1714003200-1714089599@almanarqatar.com
SUMMARY:Qatar Flag Day
DESCRIPTION:
URL:https://almanarqatar.com/website/dafna/en/event/qatar-flag-day/
LOCATION:Qatar Police Appreciation Day
END:VEVENT
BEGIN:VEVENT
DTSTART;VALUE=DATE:20240428
DTEND;VALUE=DATE:20240429
DTSTAMP:20260425T134611
CREATED:20240123T081739Z
LAST-MODIFIED:20240123T081739Z
UID:15286-1714262400-1714348799@almanarqatar.com
SUMMARY:Health and Safety Day
DESCRIPTION:
URL:https://almanarqatar.com/website/dafna/en/event/health-and-safety-day/
LOCATION:Qatar Police Appreciation Day
END:VEVENT
BEGIN:VEVENT
DTSTART;VALUE=DATE:20240502
DTEND;VALUE=DATE:20240503
DTSTAMP:20260425T134611
CREATED:20240123T081816Z
LAST-MODIFIED:20240123T081816Z
UID:15288-1714608000-1714694399@almanarqatar.com
SUMMARY:Spelling Bee (1 – 6) Arabic
DESCRIPTION:
URL:https://almanarqatar.com/website/dafna/en/event/spelling-bee-1-6-arabic/
LOCATION:Qatar Police Appreciation Day
END:VEVENT
BEGIN:VEVENT
DTSTART;VALUE=DATE:20240509
DTEND;VALUE=DATE:20240510
DTSTAMP:20260425T134611
CREATED:20240123T081842Z
LAST-MODIFIED:20240123T081842Z
UID:15290-1715212800-1715299199@almanarqatar.com
SUMMARY:Spelling Bee (1- 6) English
DESCRIPTION:
URL:https://almanarqatar.com/website/dafna/en/event/spelling-bee-1-6-english/
LOCATION:Qatar Police Appreciation Day
END:VEVENT
BEGIN:VEVENT
DTSTART;VALUE=DATE:20240523
DTEND;VALUE=DATE:20240524
DTSTAMP:20260425T134611
CREATED:20240123T081931Z
LAST-MODIFIED:20240123T081931Z
UID:15292-1716422400-1716508799@almanarqatar.com
SUMMARY:Qatar Police Appreciation Day
DESCRIPTION:
URL:https://almanarqatar.com/website/dafna/en/event/qatar-police-appreciation-day/
LOCATION:Qatar Police Appreciation Day
END:VEVENT
END:VCALENDAR